BEGIN:VCALENDAR
VERSION:2.0
PRODID:-//Library Market//iCal Export//EN
BEGIN:VEVENT
SUMMARY:Learn with the League: The History of 4-H
UID:56448
DTSTAMP:20260423T213600Z
DTSTART:20260522T000000Z
DTEND:20260522T013000Z
LOCATION:Ames Public Library, 515 Douglas Avenue, Ames, IA 50010, United S
 tates
ROOM: Rotary Room
DESCRIPTION:Â Join the League of Women Voters of Ames &amp; Story County a
 nd Ames Public Library for a presentation on the history of 4-H, Americaâ€
 ™s largest youth development organization. Â Â Â PARTICIPATE IN PERSON OR 
 ONLINE.To join the Zoom meeting, use the following link:Watch live on zoom
 : https://us02web.zoom.us/j/86386095005?pwd=JLbZ5xbe1CGKPx2hNkPGRZuIzLU8cg
 .1Â Presented in partnership with Ames Public Library and League of Women 
 Voters of Ames &amp; Story County.
URL:https://www.amespubliclibrary.org/event/learn-league-56448
END:VEVENT
END:VCALENDAR
