BEGIN:VCALENDAR
VERSION:2.0
PRODID:-//Library Market//iCal Export//EN
BEGIN:VEVENT
SUMMARY:IN OUR BACKYARD: A New Eco-Play Festival
UID:60019
DTSTAMP:20260422T183700Z
DTSTART:20260502T153000Z
DTEND:20260502T163000Z
LOCATION:Ames Public Library, 515 Douglas Avenue, Ames, IA 50010, United S
 tates
ROOM: Farwell T. Brown Auditorium
DESCRIPTION: Join the EcoTheatre Lab for a free performance as part of &q
 uot;In Our Backyard.&quot; The event at the Library will feature short pla
 ys inspired by the Ames&#039; Climate Action Plan, written by Tiffany Anto
 ne, Jessi Brock, Karen Murphy, Joshua Oren, and Amanda Petefish-Schrag.Vis
 it www.ecotheatrelab.com/in-our-backyard-festival for more information! S
 upport for this project is provided by the City of Ames Climate Action Gra
 nt Program, Discover Ames, Ames Public Library Friends Foundation, and the
  National Endowment for the Arts and the Iowa Arts Council, which exists w
 ithin the Iowa Economic Development Authority.
URL:https://www.amespubliclibrary.org/event/hold-ecolab-theater-new-play-f
 estival-60019
END:VEVENT
END:VCALENDAR
