BEGIN:VCALENDAR
VERSION:2.0
PRODID:-//Library Market//iCal Export//EN
BEGIN:VEVENT
SUMMARY:Vision to Learn - No-Cost Eye Exams
UID:60241
DTSTAMP:20260424T022300Z
DTSTART:20260813T150000Z
DTEND:20260813T220000Z
LOCATION:Ames Public Library, 515 Douglas Avenue, Ames, IA 50010, United S
 tates
ROOM: In Front of Library
DESCRIPTION:Children in grades K-12 are invited to sign up for a no-cost e
 ye exam and prescription glasses (if needed)!Ames Public Library is partne
 ring with Vision to Learn, a non-profit offering vision services to those 
 who need it, free of charge. No insurance is needed.Appointments are avail
 able on the following dates. If your child needs prescription glasses, you
  will be given an appointment to pick up their free glasses on the date in
  parenthesis.June 4 (Glasses pickup July 7)June 18 (Glasses pickup July 15
 )July 16 (Glasses pickup August 12)August 13 (Glasses pickup September 9)Â
  Sign up is required.Sign up form will be posted on this page.(Walk-ins wi
 ll not be accepted.)Â Presented in partnership with Ames Public Library an
 d Vision to Learn.
URL:https://www.amespubliclibrary.org/event/vision-learn-no-cost-eye-exams
 -60241
END:VEVENT
END:VCALENDAR
