BEGIN:VCALENDAR
VERSION:2.0
PRODID:-//Library Market//iCal Export//EN
BEGIN:VEVENT
SUMMARY:Getting Started with Medicare, Part 1
UID:62114
DTSTAMP:20260423T213600Z
DTSTART:20260521T150000Z
DTEND:20260521T160000Z
LOCATION:Ames Public Library, 515 Douglas Avenue, Ames, IA 50010, United S
 tates
ROOM: Danfoss Room
DESCRIPTION: This session introduces Medicare and the enrollment process.
  A Social Security Office will offer an overview of the electronic Medicar
 e application, including a live demonstration on how to complete the appli
 cation.CMS will then provide an overview of Medicare Part A (Hospital Insu
 rance) and Medicare Part B (Medical Insurance), along with the different e
 nrollment options available to beneficiaries. Virtual EventA Zoom link wi
 ll be posted on this page before the event.The presentation will also be p
 layed live on a screen in the Danfoss Room. Presented in partnership with
  Ames Public Library, Centers for Medicare &amp; Medicaid Services, and So
 cial Security Administration.
URL:https://www.amespubliclibrary.org/event/medicare-101-62114
END:VEVENT
END:VCALENDAR
