BEGIN:VCALENDAR
VERSION:2.0
PRODID:-//Library Market//iCal Export//EN
BEGIN:VEVENT
SUMMARY:Getting Started with Medicare, Part 2
UID:62115
DTSTAMP:20260423T213600Z
DTSTART:20260522T150000Z
DTEND:20260522T160000Z
LOCATION:Ames Public Library, 515 Douglas Avenue, Ames, IA 50010, United S
 tates
ROOM: Danfoss Room
DESCRIPTION: This session dives deeper into additional Medicare coverage 
 options and fraud prevention. Attendees will learn about Medicare Part C (
 Medicare Advantage), Medicare Part D (Prescription Drug Coverage), and oth
 er Medicare health plan options. A Senior Medicare Patrol Director will al
 so provide important information on Medicare fraud detection and awareness
 . Additionally, this session will cover resources available for people wit
 h limited income and resources. Virtual EventA Zoom link will be posted o
 n this page before the event.The presentation will also be played live on 
 a screen in the Danfoss Room. Presented in partnership with Ames Public L
 ibrary, Centers for Medicare &amp; Medicaid Services, and Social Security 
 Administration.
URL:https://www.amespubliclibrary.org/event/medicare-101-62115
END:VEVENT
END:VCALENDAR
