BEGIN:VCALENDAR
VERSION:2.0
PRODID:-//Library Market//iCal Export//EN
BEGIN:VEVENT
SUMMARY:Trauma Informed Care
UID:62173
DTSTAMP:20260423T213600Z
DTSTART:20260520T220000Z
DTEND:20260520T230000Z
LOCATION:Ames Public Library, 515 Douglas Avenue, Ames, IA 50010, United S
 tates
ROOM: Rotary Room
DESCRIPTION: Discover how trauma impacts individuals and learn about ways
  you can support healing in your community.PARTICIPATE IN-PERSON OR ONLINE
  VIA ZOOMA Zoom link will be poster here before the event. Presented in p
 artnership with Ames Public Library, Community and Family Resources, and S
 ubstance Abuse and Mental Health Services Administration.
URL:https://www.amespubliclibrary.org/event/community-family-resources-pro
 gram-62173
END:VEVENT
END:VCALENDAR
