BEGIN:VCALENDAR
VERSION:2.0
PRODID:-//Library Market//iCal Export//EN
BEGIN:VEVENT
SUMMARY:Tutoring
UID:62534
DTSTAMP:20260420T194900Z
DTSTART:20260417T211500Z
DTEND:20260417T223000Z
LOCATION:Ames Public Library, 515 Douglas Avenue, Ames, IA 50010, United S
 tates
ROOM: Nancy Divine Study Room - 1st Floor
DESCRIPTION:English language training
URL:https://www.amespubliclibrary.org/event/tutoring-62534
END:VEVENT
END:VCALENDAR
