BEGIN:VCALENDAR
VERSION:2.0
PRODID:-//Library Market//iCal Export//EN
BEGIN:VEVENT
SUMMARY:Request for Short Filming session for High School film project
UID:62536
DTSTAMP:20260420T190500Z
DTSTART:20260419T180000Z
DTEND:20260419T184500Z
LOCATION:Ames Public Library, 515 Douglas Avenue, Ames, IA 50010, United S
 tates
ROOM: Dale H. Ross Board Room
DESCRIPTION:To film a few short clips for an educational high school stude
 nt film project. No solicitation is taking place. Additionally, low volume
  and no loud noises are present.
URL:https://www.amespubliclibrary.org/event/request-short-filming-session-
 high-school-film-project-62536
END:VEVENT
END:VCALENDAR
