BEGIN:VCALENDAR
VERSION:2.0
PRODID:-//Library Market//iCal Export//EN
BEGIN:VEVENT
SUMMARY:Ames Area Amateur Astronomers Club meeting with Dr. Bert Pablo
UID:62545
DTSTAMP:20260420T190500Z
DTSTART:20260430T230000Z
DTEND:20260501T000000Z
LOCATION:Ames Public Library, 515 Douglas Avenue, Ames, IA 50010, United S
 tates
ROOM: Danfoss Room
DESCRIPTION:The astronomy club will meet with Dr. Bert Pablo from the Amer
 ican Association of Variable Star Observers, who is visiting Iowa State Un
 iversity to give a talk. He has expressed interest in connecting with the 
 local astronomy club during his visit.
URL:https://www.amespubliclibrary.org/event/ames-area-amateur-astronomers-
 club-meeting-dr-bert-pablo-62545
END:VEVENT
END:VCALENDAR
