BEGIN:VCALENDAR
VERSION:2.0
PRODID:-//Library Market//iCal Export//EN
BEGIN:VEVENT
SUMMARY:VITA Tax Service Follow Up Incomplete Returns
UID:62547
DTSTAMP:20260420T200700Z
DTSTART:20260615T143000Z
DTEND:20260615T183000Z
LOCATION:Ames Public Library, 515 Douglas Avenue, Ames, IA 50010, United S
 tates
ROOM: Rotary Room
DESCRIPTION:Complete returns with missing information.
URL:https://www.amespubliclibrary.org/event/vita-tax-service-follow-incomp
 lete-returns-62547
END:VEVENT
END:VCALENDAR
