BEGIN:VCALENDAR
VERSION:2.0
PRODID:-//Library Market//iCal Export//EN
BEGIN:VEVENT
SUMMARY:senior Variety Show recording
UID:62548
DTSTAMP:20260420T190500Z
DTSTART:20260423T140000Z
DTEND:20260423T150000Z
LOCATION:Ames Public Library, 515 Douglas Avenue, Ames, IA 50010, United S
 tates
ROOM: Dale H. Ross Board Room
DESCRIPTION:to interview and record a Senior Variety Show candidate for th
 e August 14, and 15 show, Starstruck - Stage and Screen
URL:https://www.amespubliclibrary.org/event/senior-variety-show-recording-
 62548
END:VEVENT
END:VCALENDAR
