BEGIN:VCALENDAR
VERSION:2.0
PRODID:-//Library Market//iCal Export//EN
BEGIN:VEVENT
SUMMARY:Language study session
UID:62549
DTSTAMP:20260420T190500Z
DTSTART:20260422T150000Z
DTEND:20260422T160000Z
LOCATION:Ames Public Library, 515 Douglas Avenue, Ames, IA 50010, United S
 tates
ROOM: Study Room #3 - 2nd Floor
DESCRIPTION:Language study session
URL:https://www.amespubliclibrary.org/event/language-study-session-62549
END:VEVENT
END:VCALENDAR
