BEGIN:VCALENDAR
VERSION:2.0
PRODID:-//Library Market//iCal Export//EN
BEGIN:VEVENT
SUMMARY:Ames Choose FI
UID:62550
DTSTAMP:20260421T175300Z
DTSTART:20260522T000000Z
DTEND:20260522T010000Z
LOCATION:Ames Public Library, 515 Douglas Avenue, Ames, IA 50010, United S
 tates
ROOM: Danfoss Room
DESCRIPTION:Local Social Club of Choose FI
URL:https://www.amespubliclibrary.org/event/ames-choose-fi-62550
END:VEVENT
END:VCALENDAR
