BEGIN:VCALENDAR
VERSION:2.0
PRODID:-//Library Market//iCal Export//EN
BEGIN:VEVENT
SUMMARY:Ames Choose FI
UID:62551
DTSTAMP:20260420T203000Z
DTSTART:20260619T000000Z
DTEND:20260619T010000Z
LOCATION:Ames Public Library, 515 Douglas Avenue, Ames, IA 50010, United S
 tates
ROOM: Rotary Room
DESCRIPTION:Meeting of local social club.
URL:https://www.amespubliclibrary.org/event/ames-choose-fi-62551
END:VEVENT
END:VCALENDAR
