BEGIN:VCALENDAR
VERSION:2.0
PRODID:-//Library Market//iCal Export//EN
BEGIN:VEVENT
SUMMARY:Ames Choose FI
UID:62552
DTSTAMP:20260421T034100Z
DTSTART:20260717T000000Z
DTEND:20260717T010000Z
LOCATION:Ames Public Library, 515 Douglas Avenue, Ames, IA 50010, United S
 tates
ROOM: Rotary Room
DESCRIPTION:Local Social Club
URL:https://www.amespubliclibrary.org/event/ames-choose-fi-62552
END:VEVENT
END:VCALENDAR
