BEGIN:VCALENDAR
VERSION:2.0
PRODID:-//Library Market//iCal Export//EN
BEGIN:VEVENT
SUMMARY:Big Bluestem Audubon Society
UID:62554
DTSTAMP:20260421T161100Z
DTSTART:20261015T233000Z
DTEND:20261016T013000Z
LOCATION:Ames Public Library, 515 Douglas Avenue, Ames, IA 50010, United S
 tates
ROOM: Farwell T. Brown Auditorium
DESCRIPTION:General meeting about birding open to the public at no charge.
URL:https://www.amespubliclibrary.org/event/big-bluestem-audubon-society-6
 2554
END:VEVENT
END:VCALENDAR
