BEGIN:VCALENDAR
VERSION:2.0
PRODID:-//Library Market//iCal Export//EN
BEGIN:VEVENT
SUMMARY:Amateur Radio License Examination
UID:62557
DTSTAMP:20260421T161100Z
DTSTART:20261018T190000Z
DTEND:20261018T210000Z
LOCATION:Ames Public Library, 515 Douglas Avenue, Ames, IA 50010, United S
 tates
ROOM: Danfoss Room
DESCRIPTION:Unlock endless communication possibilities. Get your amateur r
 adio license now and enjoy emergency preparedness, global connections, and
  a vibrant community! FCC-certified testing sessions provided by the Story
  County Amateur Radio Club. Visit http://www.w0yl.com/ve-team to get start
 ed today.
URL:https://www.amespubliclibrary.org/event/amateur-radio-license-examinat
 ion-62557
END:VEVENT
END:VCALENDAR
