BEGIN:VCALENDAR
VERSION:2.0
PRODID:-//Library Market//iCal Export//EN
BEGIN:VEVENT
SUMMARY:WCTT Videoconference
UID:62558
DTSTAMP:20260420T190500Z
DTSTART:20260423T150000Z
DTEND:20260423T170000Z
LOCATION:Ames Public Library, 515 Douglas Avenue, Ames, IA 50010, United S
 tates
ROOM: Nancy Divine Study Room - 1st Floor
DESCRIPTION:Friends keeping in touch.
URL:https://www.amespubliclibrary.org/event/wctt-videoconference-62558
END:VEVENT
END:VCALENDAR
