BEGIN:VCALENDAR
VERSION:2.0
PRODID:-//Library Market//iCal Export//EN
BEGIN:VEVENT
SUMMARY:Emma
UID:62578
DTSTAMP:20260421T012700Z
DTSTART:20260422T210000Z
DTEND:20260422T220000Z
LOCATION:Ames Public Library, 515 Douglas Avenue, Ames, IA 50010, United S
 tates
ROOM: Study Room #3 - 2nd Floor
DESCRIPTION:Tutor
URL:https://www.amespubliclibrary.org/event/emma-62578
END:VEVENT
END:VCALENDAR
