BEGIN:VCALENDAR
VERSION:2.0
PRODID:-//Library Market//iCal Export//EN
BEGIN:VEVENT
SUMMARY:Tutoring
UID:62579
DTSTAMP:20260421T035800Z
DTSTART:20260421T193000Z
DTEND:20260421T210000Z
LOCATION:Ames Public Library, 515 Douglas Avenue, Ames, IA 50010, United S
 tates
ROOM: Nancy Divine Study Room - 1st Floor
DESCRIPTION:White board markers and eraser
URL:https://www.amespubliclibrary.org/event/tutoring-62579
END:VEVENT
END:VCALENDAR
