BEGIN:VCALENDAR
VERSION:2.0
PRODID:-//Library Market//iCal Export//EN
BEGIN:VEVENT
SUMMARY:Tutoring
UID:62580
DTSTAMP:20260421T003600Z
DTSTART:20260423T193000Z
DTEND:20260423T210000Z
LOCATION:Ames Public Library, 515 Douglas Avenue, Ames, IA 50010, United S
 tates
ROOM: Nancy Divine Study Room - 1st Floor
DESCRIPTION:English language training
URL:https://www.amespubliclibrary.org/event/tutoring-62580
END:VEVENT
END:VCALENDAR
