BEGIN:VCALENDAR
VERSION:2.0
PRODID:-//Library Market//iCal Export//EN
BEGIN:VEVENT
SUMMARY:Tutoring
UID:62581
DTSTAMP:20260421T012700Z
DTSTART:20260422T143000Z
DTEND:20260422T150000Z
LOCATION:Ames Public Library, 515 Douglas Avenue, Ames, IA 50010, United S
 tates
ROOM: Study Room #3 - 2nd Floor
DESCRIPTION:English language training
URL:https://www.amespubliclibrary.org/event/tutoring-62581
END:VEVENT
END:VCALENDAR
