BEGIN:VCALENDAR
VERSION:2.0
PRODID:-//Library Market//iCal Export//EN
BEGIN:VEVENT
SUMMARY:Homeschool Curriculum Share
UID:62582
DTSTAMP:20260421T001700Z
DTSTART:20260429T000000Z
DTEND:20260429T011500Z
LOCATION:Ames Public Library, 515 Douglas Avenue, Ames, IA 50010, United S
 tates
ROOM: Farwell T. Brown Auditorium
DESCRIPTION:Open to the public!! Homeschoolers sharing curriculum\r\nDeser
 t potluck to ease our stress :-D
URL:https://www.amespubliclibrary.org/event/homeschool-curriculum-share-62
 582
END:VEVENT
END:VCALENDAR
