BEGIN:VCALENDAR
VERSION:2.0
PRODID:-//Library Market//iCal Export//EN
BEGIN:VEVENT
SUMMARY:Teen Silent Book Club
UID:62697
DTSTAMP:20260421T020400Z
DTSTART:20260710T200000Z
DTEND:20260710T210000Z
LOCATION:Ames Public Library, 515 Douglas Avenue, Ames, IA 50010, United S
 tates
ROOM: Teen Space
DESCRIPTION: Hey teens, come to the Library&#039;s Teen Silent Book Club 
 to unwind, read, and connect with others. We will enjoy good books and goo
 d—but quiet—company as we munch on some snacks. Bring your own book o
 r grab one from the Library&#039;s shelves. We will start each club off wi
 th a brief conversation (share what you&#039;re reading/introduce yourself
 ) and then settle in for two hours of cozy, distraction-free reading. The
  Teen Space main doors will be closed, so enter through the side door near
  the Young Adult book display wall. Supported by Ames Public Library Frie
 nds Foundation.
URL:https://www.amespubliclibrary.org/event/teen-silent-book-club-62697
END:VEVENT
END:VCALENDAR
