BEGIN:VCALENDAR
VERSION:2.0
PRODID:-//Library Market//iCal Export//EN
BEGIN:VEVENT
SUMMARY:RECORDER PLAY-ALONG, OPEN TO ALL LEVELS OF RECORDER PLAYERS
UID:62710
DTSTAMP:20260421T175300Z
DTSTART:20260920T190000Z
DTEND:20260920T203000Z
LOCATION:Ames Public Library, 515 Douglas Avenue, Ames, IA 50010, United S
 tates
ROOM: Rotary Room
DESCRIPTION:Getting interested recorder players together for an afternoon 
 of playing multi-part music
URL:https://www.amespubliclibrary.org/event/recorder-play-along-open-all-l
 evels-recorder-players-62710
END:VEVENT
END:VCALENDAR
