BEGIN:VCALENDAR
VERSION:2.0
PRODID:-//Library Market//iCal Export//EN
BEGIN:VEVENT
SUMMARY:Friends of Ames Strings
UID:62712
DTSTAMP:20260422T010000Z
DTSTART:20260617T230000Z
DTEND:20260618T010000Z
LOCATION:Ames Public Library, 515 Douglas Avenue, Ames, IA 50010, United S
 tates
ROOM: Danfoss Room
DESCRIPTION:This meeting is an annual training for the students who will b
 e working at our summer workshop in July.
URL:https://www.amespubliclibrary.org/event/friends-ames-strings-62712
END:VEVENT
END:VCALENDAR
