BEGIN:VCALENDAR
VERSION:2.0
PRODID:-//Library Market//iCal Export//EN
BEGIN:VEVENT
SUMMARY:Waters Edge HOA
UID:62713
DTSTAMP:20260421T210300Z
DTSTART:20260604T210000Z
DTEND:20260604T230000Z
LOCATION:Ames Public Library, 515 Douglas Avenue, Ames, IA 50010, United S
 tates
ROOM: Dale H. Ross Board Room
DESCRIPTION:HOA  Board Meeting
URL:https://www.amespubliclibrary.org/event/waters-edge-hoa-62713
END:VEVENT
END:VCALENDAR
