BEGIN:VCALENDAR
VERSION:2.0
PRODID:-//Library Market//iCal Export//EN
BEGIN:VEVENT
SUMMARY:Hold for Battle set-up
UID:62716
DTSTAMP:20260424T121000Z
DTSTART:20270425T050000Z
DTEND:20270425T050000Z
LOCATION:Ames Public Library, 515 Douglas Avenue, Ames, IA 50010, United S
 tates
ROOM: Farwell T. Brown Auditorium
DESCRIPTION:APL is hosting the state-wide Battle of the Books finals the n
 ext three days. This is a hold, put in by Bri A., to get the room set up a
 head of the next day&#039;s events.
URL:https://www.amespubliclibrary.org/event/hold-battle-set-62716
END:VEVENT
END:VCALENDAR
