BEGIN:VCALENDAR
VERSION:2.0
PRODID:-//Library Market//iCal Export//EN
BEGIN:VEVENT
SUMMARY:Financial Planning
UID:62719
DTSTAMP:20260423T181800Z
DTSTART:20260505T150000Z
DTEND:20260505T170000Z
LOCATION:Ames Public Library, 515 Douglas Avenue, Ames, IA 50010, United S
 tates
ROOM: Study Room #3 - 2nd Floor
DESCRIPTION:Financial planning discussion
URL:https://www.amespubliclibrary.org/event/financial-planning-62719
END:VEVENT
END:VCALENDAR
