BEGIN:VCALENDAR
VERSION:2.0
PRODID:-//Library Market//iCal Export//EN
BEGIN:VEVENT
SUMMARY:Estate Planning Workshop
UID:62720
DTSTAMP:20260424T005000Z
DTSTART:20260603T230000Z
DTEND:20260604T003000Z
LOCATION:Ames Public Library, 515 Douglas Avenue, Ames, IA 50010, United S
 tates
ROOM: Danfoss Room
DESCRIPTION:This is a free, public educational seminar on estate planning 
 fundamentals, including wills, trusts, and healthcare directives.  The eve
 nt is strictly informational with no sales, no solicitation, and no financ
 ial transactions.  It is designed to educate the community in a profession
 al, respectful setting.
URL:https://www.amespubliclibrary.org/event/estate-planning-workshop-62720
END:VEVENT
END:VCALENDAR
