BEGIN:VCALENDAR
VERSION:2.0
PRODID:-//Library Market//iCal Export//EN
BEGIN:VEVENT
SUMMARY:Join the Fight Against Global Poverty: Borgen Project Info Session
UID:62730
DTSTAMP:20260423T181800Z
DTSTART:20260508T210000Z
DTEND:20260508T220000Z
LOCATION:Ames Public Library, 515 Douglas Avenue, Ames, IA 50010, United S
 tates
ROOM: Rotary Room
DESCRIPTION:Interested in building advocacy experience and fighting global
  poverty? Join this 20-minute information session to learn about volunteer
 ing with The Borgen Project. We’ll cover what the organization does, wha
 t interns and volunteers work on, and how you can get involved. This is a 
 great opportunity for students and community members interested in politic
 s, advocacy, and global issues.
URL:https://www.amespubliclibrary.org/event/join-fight-against-global-pove
 rty-borgen-project-info-session-62730
END:VEVENT
END:VCALENDAR
