BEGIN:VCALENDAR
VERSION:2.0
PRODID:-//Library Market//iCal Export//EN
BEGIN:VEVENT
SUMMARY:Story Construction-P&amp;P Updates
UID:62732
DTSTAMP:20260423T202200Z
DTSTART:20260423T160000Z
DTEND:20260423T180000Z
LOCATION:Ames Public Library, 515 Douglas Avenue, Ames, IA 50010, United S
 tates
ROOM: Study Room #3 - 2nd Floor
DESCRIPTION:Update our P&amp;P offiste
URL:https://www.amespubliclibrary.org/event/story-construction-pp-updates-
 62732
END:VEVENT
END:VCALENDAR
