BEGIN:VCALENDAR
VERSION:2.0
PRODID:-//Library Market//iCal Export//EN
BEGIN:VEVENT
SUMMARY:Study Space
UID:62740
DTSTAMP:20260422T060100Z
DTSTART:20260512T213000Z
DTEND:20260513T013000Z
LOCATION:Ames Public Library, 515 Douglas Avenue, Ames, IA 50010, United S
 tates
ROOM: PEO Room
DESCRIPTION: Need somewhere quiet to get ready for tests? We reserved spa
 ce just for study time. Drop in any of the following times, or ask about o
 ur regular study rooms! Location: Danfoss RoomMonday-Thursday, May 4-79am
 -8:45pmFriday-Saturday, May 8-99am-5:45pmSunday, May 101-4:45pmMonday-Wed
 nesday, May 11-13 9am-8:45pmThursday, May 149am-5pm Find out more about 
 Study Rooms at www.AmesPL.org/using-the-library/meeting-study-rooms 
URL:https://www.amespubliclibrary.org/event/study-space-62740
END:VEVENT
END:VCALENDAR
