BEGIN:VCALENDAR
VERSION:2.0
PRODID:-//Library Market//iCal Export//EN
BEGIN:VEVENT
SUMMARY:Study
UID:62744
DTSTAMP:20260423T202200Z
DTSTART:20260423T183000Z
DTEND:20260423T203000Z
LOCATION:Ames Public Library, 515 Douglas Avenue, Ames, IA 50010, United S
 tates
ROOM: Study Room #3 - 2nd Floor
DESCRIPTION:1:1 meeting
URL:https://www.amespubliclibrary.org/event/study-62744
END:VEVENT
END:VCALENDAR
