BEGIN:VCALENDAR
VERSION:2.0
PRODID:-//Library Market//iCal Export//EN
BEGIN:VEVENT
SUMMARY:Emma
UID:62750
DTSTAMP:20260423T215400Z
DTSTART:20260427T210000Z
DTEND:20260427T230000Z
LOCATION:Ames Public Library, 515 Douglas Avenue, Ames, IA 50010, United S
 tates
ROOM: Study Room #3 - 2nd Floor
DESCRIPTION:Interview Zoom
URL:https://www.amespubliclibrary.org/event/emma-62750
END:VEVENT
END:VCALENDAR
