BEGIN:VCALENDAR
VERSION:2.0
PRODID:-//Library Market//iCal Export//EN
BEGIN:VEVENT
SUMMARY:Rob Sand for Iowa Casey&#039;s and Conversation
UID:62751
DTSTAMP:20260423T215400Z
DTSTART:20260514T230000Z
DTEND:20260515T010000Z
LOCATION:Ames Public Library, 515 Douglas Avenue, Ames, IA 50010, United S
 tates
ROOM: Danfoss Room
DESCRIPTION:Conversation amongst GOP, Independents, and Democrats.
URL:https://www.amespubliclibrary.org/event/rob-sand-iowa-caseys-and-conve
 rsation-62751
END:VEVENT
END:VCALENDAR
