BEGIN:VCALENDAR
VERSION:2.0
PRODID:-//Library Market//iCal Export//EN
BEGIN:VEVENT
SUMMARY:Friends of Ames Strings
UID:62753
DTSTAMP:20260423T231000Z
DTSTART:20260527T233000Z
DTEND:20260528T013000Z
LOCATION:Ames Public Library, 515 Douglas Avenue, Ames, IA 50010, United S
 tates
ROOM: PEO Room
DESCRIPTION:board meeting
URL:https://www.amespubliclibrary.org/event/friends-ames-strings-62753
END:VEVENT
END:VCALENDAR
