BEGIN:VCALENDAR
VERSION:2.0
PRODID:-//Library Market//iCal Export//EN
BEGIN:VEVENT
SUMMARY:Ames Voice
UID:62754
DTSTAMP:20260423T215400Z
DTSTART:20260504T220000Z
DTEND:20260505T000000Z
LOCATION:Ames Public Library, 515 Douglas Avenue, Ames, IA 50010, United S
 tates
ROOM: Rotary Room
DESCRIPTION:A meeting of the newsroom team to talk about current projects,
  future endeavors and updates on the organization.
URL:https://www.amespubliclibrary.org/event/ames-voice-62754
END:VEVENT
END:VCALENDAR
