BEGIN:VCALENDAR
VERSION:2.0
PRODID:-//Library Market//iCal Export//EN
BEGIN:VEVENT
SUMMARY:Iowa School Psychology Association Annual Retreat
UID:62755
DTSTAMP:20260424T061900Z
DTSTART:20260622T140000Z
DTEND:20260622T210000Z
LOCATION:Ames Public Library, 515 Douglas Avenue, Ames, IA 50010, United S
 tates
ROOM: PEO Room
DESCRIPTION:The Iowa School Psychology Association meets one time a year i
 n person to hold a full board meeting and plan for the future. We used you
 r space last year and it worked perfect for us!
URL:https://www.amespubliclibrary.org/event/iowa-school-psychology-associa
 tion-annual-retreat-62755
END:VEVENT
END:VCALENDAR
