BEGIN:VCALENDAR
VERSION:2.0
PRODID:-//Library Market//iCal Export//EN
BEGIN:VEVENT
SUMMARY:Property tax reform
UID:62756
DTSTAMP:20260423T232900Z
DTSTART:20260424T190000Z
DTEND:20260424T210000Z
LOCATION:Ames Public Library, 515 Douglas Avenue, Ames, IA 50010, United S
 tates
ROOM: Nancy Divine Study Room - 1st Floor
DESCRIPTION:Research
URL:https://www.amespubliclibrary.org/event/property-tax-reform-62756
END:VEVENT
END:VCALENDAR
