BEGIN:VCALENDAR
VERSION:2.0
PRODID:-//Library Market//iCal Export//EN
BEGIN:VEVENT
SUMMARY:Senior Variety Show meeting
UID:62758
DTSTAMP:20260424T211500Z
DTSTART:20260427T140000Z
DTEND:20260427T150000Z
LOCATION:Ames Public Library, 515 Douglas Avenue, Ames, IA 50010, United S
 tates
ROOM: Dale H. Ross Board Room
DESCRIPTION:record a speaker
URL:https://www.amespubliclibrary.org/event/senior-variety-show-meeting-62
 758
END:VEVENT
END:VCALENDAR
