BEGIN:VCALENDAR
VERSION:2.0
PRODID:-//Library Market//iCal Export//EN
BEGIN:VEVENT
SUMMARY:Book Club
UID:62762
DTSTAMP:20260424T205000Z
DTSTART:20260526T231500Z
DTEND:20260527T010000Z
LOCATION:Ames Public Library, 515 Douglas Avenue, Ames, IA 50010, United S
 tates
ROOM: Rotary Room
DESCRIPTION:Meet to discuss our book.
URL:https://www.amespubliclibrary.org/event/book-club-62762
END:VEVENT
END:VCALENDAR
