BEGIN:VCALENDAR
VERSION:2.0
PRODID:-//Library Market//iCal Export//EN
BEGIN:VEVENT
SUMMARY:Dana McNamara
UID:62766
DTSTAMP:20260424T195300Z
DTSTART:20260430T200000Z
DTEND:20260430T210000Z
LOCATION:Ames Public Library, 515 Douglas Avenue, Ames, IA 50010, United S
 tates
ROOM: Nancy Divine Study Room - 1st Floor
DESCRIPTION:Monthly Career Planning Meeting
URL:https://www.amespubliclibrary.org/event/dana-mcnamara-62766
END:VEVENT
END:VCALENDAR
