BEGIN:VCALENDAR
VERSION:2.0
PRODID:-//Library Market//iCal Export//EN
BEGIN:VEVENT
SUMMARY:Rob Sand for Iowa Casey&#039;s and Conversation
UID:62767
DTSTAMP:20260424T221500Z
DTSTART:20260520T230000Z
DTEND:20260521T000000Z
LOCATION:Ames Public Library, 515 Douglas Avenue, Ames, IA 50010, United S
 tates
ROOM: Danfoss Room
DESCRIPTION:To engage in social discourse with community members
URL:https://www.amespubliclibrary.org/event/rob-sand-iowa-caseys-and-conve
 rsation-62767
END:VEVENT
END:VCALENDAR
