BEGIN:VCALENDAR
VERSION:2.0
PRODID:-//Library Market//iCal Export//EN
BEGIN:VEVENT
SUMMARY:Dotson Dr POA Annual Meeting
UID:62770
DTSTAMP:20260425T030800Z
DTSTART:20260514T230000Z
DTEND:20260515T000000Z
LOCATION:Ames Public Library, 515 Douglas Avenue, Ames, IA 50010, United S
 tates
ROOM: Danfoss Room
DESCRIPTION:Annual meeting to discuss Property Owners Association Business
 , including last year&#039;s expenses and budget for this year.
URL:https://www.amespubliclibrary.org/event/dotson-dr-poa-annual-meeting-6
 2770
END:VEVENT
END:VCALENDAR
